OziExplorer Map Data File Version 2.2
q41-033-034.jpg
C:\map\disk_pural\1km\q41-033-034.jpg
1 ,Map Code,
Pulkovo 1942 (1),WGS 84, 0.0000, 0.0000,WGS 84
Reserved 1
Reserved 2
Magnetic Variation,,,E
Map Projection,Transverse Mercator,PolyCal,No,AutoCalOnly,No,BSBUseWPX,Yes
Point01,xy, 2688, 22,in, deg, 67, 20.0000,N, 64, 30.0000,E, grid, , , ,N
Point02,xy, 132, 14,in, deg, 67, 20.0000,N, 64, 0.0000,E, grid, , , ,N
Point03,xy, 5244, 2,in, deg, 67, 20.0000,N, 65, 0.0000,E, grid, , , ,N
Point04,xy, 5283, 4421,in, deg, 67, 0.0000,N, 65, 0.0000,E, grid, , , ,N
Point05,xy, 97, 4425,in, deg, 67, 0.0000,N, 64, 0.0000,E, grid, , , ,N
Point06,xy, , ,in, deg, , ,, , ,, grid, , , ,
Point07,xy, , ,in, deg, , ,, , ,, grid, , , ,
Point08,xy, , ,in, deg, , ,, , ,, grid, , , ,
Point09,xy, , ,in, deg, , ,, , ,, grid, , , ,
Point10,xy, , ,in, deg, , ,, , ,, grid, , , ,
Point11,xy, , ,in, deg, , ,, , ,, grid, , , ,
Point12,xy, , ,in, deg, , ,, , ,, grid, , , ,
Point13,xy, , ,in, deg, , ,, , ,, grid, , , ,
Point14,xy, , ,in, deg, , ,, , ,, grid, , , ,
Point15,xy, , ,in, deg, , ,, , ,, grid, , , ,
Point16,xy, , ,in, deg, , ,, , ,, grid, , , ,
Point17,xy, , ,in, deg, , ,, , ,, grid, , , ,
Point18,xy, , ,in, deg, , ,, , ,, grid, , , ,
Point19,xy, , ,in, deg, , ,, , ,, grid, , , ,
Point20,xy, , ,in, deg, , ,, , ,, grid, , , ,
Point21,xy, , ,in, deg, , ,, , ,, grid, , , ,
Point22,xy, , ,in, deg, , ,, , ,, grid, , , ,
Point23,xy, , ,in, deg, , ,, , ,, grid, , , ,
Point24,xy, , ,in, deg, , ,, , ,, grid, , , ,
Point25,xy, , ,in, deg, , ,, , ,, grid, , , ,
Point26,xy, , ,in, deg, , ,, , ,, grid, , , ,
Point27,xy, , ,in, deg, , ,, , ,, grid, , , ,
Point28,xy, , ,in, deg, , ,, , ,, grid, , , ,
Point29,xy, , ,in, deg, , ,, , ,, grid, , , ,
Point30,xy, , ,in, deg, , ,, , ,, grid, , , ,
Projection Setup, 0.000000000, 63.000000000, 1.000000000, 500000.00, 0.00,,,,,
Map Feature = MF ; Map Comment = MC These follow if they exist
Track File = TF These follow if they exist
Moving Map Parameters = MM? These follow if they exist
MM0,No
MMPNUM,4
MMPXY,1,0,0
MMPXY,2,5392,0
MMPXY,3,5392,4433
MMPXY,4,0,4433
MMPLL,1, 63.974306, 67.334269
MMPLL,2, 65.028803, 67.333617
MMPLL,3, 65.021138, 66.998867
MMPLL,4, 63.981160, 66.999493
MM1B,8.408435
MOP,Map Open Position,0,0
IWH,Map Image Width/Height,5392,4433
