OziExplorer Map Data File Version 2.2
Created by SAS.Planet
oka_gen_13.jpg
1 ,Map Code,
WGS 84,, 0.0000, 0.0000,WGS 84
Reserved 1
Reserved 2
Magnetic Variation,,,E
Map Projection,Mercator,PolyCal,No,AutoCalOnly,No,BSBUseWPX,No
Point01,xy, 0, 0,in, deg, 54, 55.5811643756789,N, 36, 59.0460205078125,E, grid, , , ,N
Point02,xy, 1848, 2352,in, deg, 54, 27.5796920544029,N, 37, 37.1136474609375,E, grid, , , ,N
Point03,xy, 0, 2352,in, deg, 54, 27.5796920544029,N, 36, 59.0460205078125,E, grid, , , ,N
Point04,xy, 1848, 0,in, deg, 54, 55.5811643756789,N, 37, 37.1136474609375,E, grid, , , ,N
Point05,xy, 924, 1176,in, deg, 54, 41.6206845843409,N, 37, 18.079833984375,E, grid, , , ,N
Point06,xy, 924, 0,in, deg, 54, 55.5811643756789,N, 37, 18.079833984375,E, grid, , , ,N
Point07,xy, 0, 1176,in, deg, 54, 41.6206845843409,N, 36, 59.0460205078125,E, grid, , , ,N
Point08,xy, 1848, 1176,in, deg, 54, 41.6206845843409,N, 37, 37.1136474609375,E, grid, , , ,N
Point09,xy, 924, 2352,in, deg, 54, 27.5796920544029,N, 37, 18.079833984375,E, grid, , , ,N
Point10,xy, , ,in, deg, , ,N, , ,W, grid, , , ,N
Point11,xy, , ,in, deg, , ,N, , ,W, grid, , , ,N
Point12,xy, , ,in, deg, , ,N, , ,W, grid, , , ,N
Point13,xy, , ,in, deg, , ,N, , ,W, grid, , , ,N
Point14,xy, , ,in, deg, , ,N, , ,W, grid, , , ,N
Point15,xy, , ,in, deg, , ,N, , ,W, grid, , , ,N
Point16,xy, , ,in, deg, , ,N, , ,W, grid, , , ,N
Point17,xy, , ,in, deg, , ,N, , ,W, grid, , , ,N
Point18,xy, , ,in, deg, , ,N, , ,W, grid, , , ,N
Point19,xy, , ,in, deg, , ,N, , ,W, grid, , , ,N
Point20,xy, , ,in, deg, , ,N, , ,W, grid, , , ,N
Point21,xy, , ,in, deg, , ,N, , ,W, grid, , , ,N
Point22,xy, , ,in, deg, , ,N, , ,W, grid, , , ,N
Point23,xy, , ,in, deg, , ,N, , ,W, grid, , , ,N
Point24,xy, , ,in, deg, , ,N, , ,W, grid, , , ,N
Point25,xy, , ,in, deg, , ,N, , ,W, grid, , , ,N
Point26,xy, , ,in, deg, , ,N, , ,W, grid, , , ,N
Point27,xy, , ,in, deg, , ,N, , ,W, grid, , , ,N
Point28,xy, , ,in, deg, , ,N, , ,W, grid, , , ,N
Point29,xy, , ,in, deg, , ,N, , ,W, grid, , , ,N
Point30,xy, , ,in, deg, , ,N, , ,W, grid, , , ,N
Projection Setup,,,,,,,,,,
Map Feature = MF ; Map Comment = MC These follow if they exist
Track File = TF These follow if they exist
Moving Map Parameters = MM? These follow if they exist
MM0,Yes
MMPNUM,4
MMPXY,1,0,0
MMPXY,2,1848,0
MMPXY,3,1848,2352
MMPXY,4,0,2352
MMPLL,1, 36.9841003417969, 54.9263527395946
MMPLL,2, 37.6185607910156, 54.9263527395946
MMPLL,3, 37.6185607910156, 54.45966153424
MMPLL,4, 36.9841003417969, 54.45966153424
MM1B,22.0883012823805
MOP,Map Open Position,0,0
IWH,Map Image Width/Height,1848,2352
