OziExplorer Map Data File Version 2.2
Created by SAS.Planet
ya-14.jpg
1 ,Map Code,
WGS 84,, 0.0000, 0.0000,WGS 84
Reserved 1
Reserved 2
Magnetic Variation,,,E
Map Projection,Mercator,PolyCal,No,AutoCalOnly,No,BSBUseWPX,No
Point01,xy, 0, 0,in, deg, 55, 55.6927022826457,N, 39, 22.3764038085938,E, grid, , , ,N
Point02,xy, 3000, 2416,in, deg, 55, 41.6802066959841,N, 39, 53.2754516601563,E, grid, , , ,N
Point03,xy, 0, 2416,in, deg, 55, 41.6802066959841,N, 39, 22.3764038085938,E, grid, , , ,N
Point04,xy, 3000, 0,in, deg, 55, 55.6927022826457,N, 39, 53.2754516601563,E, grid, , , ,N
Point05,xy, 1500, 1208,in, deg, 55, 48.6970091195343,N, 39, 37.825927734375,E, grid, , , ,N
Point06,xy, 1500, 0,in, deg, 55, 55.6927022826457,N, 39, 37.825927734375,E, grid, , , ,N
Point07,xy, 0, 1208,in, deg, 55, 48.6970091195343,N, 39, 22.3764038085938,E, grid, , , ,N
Point08,xy, 3000, 1208,in, deg, 55, 48.6970091195343,N, 39, 53.2754516601563,E, grid, , , ,N
Point09,xy, 1500, 2416,in, deg, 55, 41.6802066959841,N, 39, 37.825927734375,E, grid, , , ,N
Point10,xy, , ,in, deg, , ,N, , ,W, grid, , , ,N
Point11,xy, , ,in, deg, , ,N, , ,W, grid, , , ,N
Point12,xy, , ,in, deg, , ,N, , ,W, grid, , , ,N
Point13,xy, , ,in, deg, , ,N, , ,W, grid, , , ,N
Point14,xy, , ,in, deg, , ,N, , ,W, grid, , , ,N
Point15,xy, , ,in, deg, , ,N, , ,W, grid, , , ,N
Point16,xy, , ,in, deg, , ,N, , ,W, grid, , , ,N
Point17,xy, , ,in, deg, , ,N, , ,W, grid, , , ,N
Point18,xy, , ,in, deg, , ,N, , ,W, grid, , , ,N
Point19,xy, , ,in, deg, , ,N, , ,W, grid, , , ,N
Point20,xy, , ,in, deg, , ,N, , ,W, grid, , , ,N
Point21,xy, , ,in, deg, , ,N, , ,W, grid, , , ,N
Point22,xy, , ,in, deg, , ,N, , ,W, grid, , , ,N
Point23,xy, , ,in, deg, , ,N, , ,W, grid, , , ,N
Point24,xy, , ,in, deg, , ,N, , ,W, grid, , , ,N
Point25,xy, , ,in, deg, , ,N, , ,W, grid, , , ,N
Point26,xy, , ,in, deg, , ,N, , ,W, grid, , , ,N
Point27,xy, , ,in, deg, , ,N, , ,W, grid, , , ,N
Point28,xy, , ,in, deg, , ,N, , ,W, grid, , , ,N
Point29,xy, , ,in, deg, , ,N, , ,W, grid, , , ,N
Point30,xy, , ,in, deg, , ,N, , ,W, grid, , , ,N
Projection Setup,,,,,,,,,,
Map Feature = MF ; Map Comment = MC These follow if they exist
Track File = TF These follow if they exist
Moving Map Parameters = MM? These follow if they exist
MM0,Yes
MMPNUM,4
MMPXY,1,0,0
MMPXY,2,3000,0
MMPXY,3,3000,2416
MMPXY,4,0,2416
MMPLL,1, 39.3729400634766, 55.9282117047108
MMPLL,2, 39.8879241943359, 55.9282117047108
MMPLL,3, 39.8879241943359, 55.6946701115997
MMPLL,4, 39.3729400634766, 55.6946701115997
MM1B,10.7377910721942
MOP,Map Open Position,0,0
IWH,Map Image Width/Height,3000,2416
