OziExplorer Map Data File Version 2.2
ya-14.jpg
ya-14.jpg
1 ,Map Code,
WGS 84,, 0.0000, 0.0000,WGS 84
Reserved 1
Reserved 2
Magnetic Variation,,,E
Map Projection,Mercator,PolyCal,No,AutoCalOnly,No,BSBUseWPX,No
Point01,xy, 0, 0,in, deg, 57, 16.3511,N, 36, 16.6113,E, grid, , , ,N
Point02,xy, 1444, 0,in, deg, 57, 16.3511,N, 36, 31.4944,E, grid, , , ,N
Point03,xy, 2889, 0,in, deg, 57, 16.3511,N, 36, 46.3671,E, grid, , , ,N
Point04,xy, 0, 606,in, deg, 57, 12.9618,N, 36, 16.6113,E, grid, , , ,N
Point05,xy, 1444, 606,in, deg, 57, 12.9618,N, 36, 31.4944,E, grid, , , ,N
Point06,xy, 2889, 606,in, deg, 57, 12.9618,N, 36, 46.3671,E, grid, , , ,N
Point07,xy, 0, 1213,in, deg, 57, 9.5728,N, 36, 16.6113,E, grid, , , ,N
Point08,xy, 1444, 1213,in, deg, 57, 9.5728,N, 36, 31.4944,E, grid, , , ,N
Point09,xy, 2889, 1213,in, deg, 57, 9.5728,N, 36, 46.3671,E, grid, , , ,N
Point10,xy, , ,in, deg, , ,N, , ,W, grid, , , ,N
Point11,xy, , ,in, deg, , ,N, , ,W, grid, , , ,N
Point12,xy, , ,in, deg, , ,N, , ,W, grid, , , ,N
Point13,xy, , ,in, deg, , ,N, , ,W, grid, , , ,N
Point14,xy, , ,in, deg, , ,N, , ,W, grid, , , ,N
Point15,xy, , ,in, deg, , ,N, , ,W, grid, , , ,N
Point16,xy, , ,in, deg, , ,N, , ,W, grid, , , ,N
Point17,xy, , ,in, deg, , ,N, , ,W, grid, , , ,N
Point18,xy, , ,in, deg, , ,N, , ,W, grid, , , ,N
Point19,xy, , ,in, deg, , ,N, , ,W, grid, , , ,N
Point20,xy, , ,in, deg, , ,N, , ,W, grid, , , ,N
Point21,xy, , ,in, deg, , ,N, , ,W, grid, , , ,N
Point22,xy, , ,in, deg, , ,N, , ,W, grid, , , ,N
Point23,xy, , ,in, deg, , ,N, , ,W, grid, , , ,N
Point24,xy, , ,in, deg, , ,N, , ,W, grid, , , ,N
Point25,xy, , ,in, deg, , ,N, , ,W, grid, , , ,N
Point26,xy, , ,in, deg, , ,N, , ,W, grid, , , ,N
Point27,xy, , ,in, deg, , ,N, , ,W, grid, , , ,N
Point28,xy, , ,in, deg, , ,N, , ,W, grid, , , ,N
Point29,xy, , ,in, deg, , ,N, , ,W, grid, , , ,N
Point30,xy, , ,in, deg, , ,N, , ,W, grid, , , ,N
Projection Setup,,,,,,,,,,
Map Feature = MF ; Map Comment = MC These follow if they exist
Track File = TF These follow if they exist
Moving Map Parameters = MM? These follow if they exist
MM0,Yes
MMPNUM,4
MMPXY,1,0,0
MMPXY,2,2889,0
MMPXY,3,2889,1213
MMPXY,4,0,1213
MMPLL,1, 36.276855, 57.272518
MMPLL,2, 36.772785, 57.272518
MMPLL,3, 36.772785, 57.159547
MMPLL,4, 36.276855, 57.159547
MM1B,10.347147
MOP,Map Open Position,0,0
IWH,Map Image Width/Height,2889,1213
