OziExplorer Map Data File Version 2.2
gen-250.jpg
gen-250.jpg
1 ,Map Code,
WGS 84,, 0.0000, 0.0000,WGS 84
Reserved 1
Reserved 2
Magnetic Variation,,,E
Map Projection,Mercator,PolyCal,No,AutoCalOnly,No,BSBUseWPX,No
Point01,xy, 0, 0,in, deg, 55, 59.0042,N, 38, 28.5812,E, grid, , , ,N
Point02,xy, 1826, 0,in, deg, 55, 59.0042,N, 38, 37.9899,E, grid, , , ,N
Point03,xy, 3653, 0,in, deg, 55, 59.0042,N, 38, 47.3935,E, grid, , , ,N
Point04,xy, 0, 1388,in, deg, 55, 54.9990,N, 38, 28.5812,E, grid, , , ,N
Point05,xy, 1826, 1388,in, deg, 55, 54.9990,N, 38, 37.9899,E, grid, , , ,N
Point06,xy, 3653, 1388,in, deg, 55, 54.9990,N, 38, 47.3935,E, grid, , , ,N
Point07,xy, 0, 2777,in, deg, 55, 50.9898,N, 38, 28.5812,E, grid, , , ,N
Point08,xy, 1826, 2777,in, deg, 55, 50.9898,N, 38, 37.9899,E, grid, , , ,N
Point09,xy, 3653, 2777,in, deg, 55, 50.9898,N, 38, 47.3935,E, grid, , , ,N
Point10,xy, , ,in, deg, , ,N, , ,W, grid, , , ,N
Point11,xy, , ,in, deg, , ,N, , ,W, grid, , , ,N
Point12,xy, , ,in, deg, , ,N, , ,W, grid, , , ,N
Point13,xy, , ,in, deg, , ,N, , ,W, grid, , , ,N
Point14,xy, , ,in, deg, , ,N, , ,W, grid, , , ,N
Point15,xy, , ,in, deg, , ,N, , ,W, grid, , , ,N
Point16,xy, , ,in, deg, , ,N, , ,W, grid, , , ,N
Point17,xy, , ,in, deg, , ,N, , ,W, grid, , , ,N
Point18,xy, , ,in, deg, , ,N, , ,W, grid, , , ,N
Point19,xy, , ,in, deg, , ,N, , ,W, grid, , , ,N
Point20,xy, , ,in, deg, , ,N, , ,W, grid, , , ,N
Point21,xy, , ,in, deg, , ,N, , ,W, grid, , , ,N
Point22,xy, , ,in, deg, , ,N, , ,W, grid, , , ,N
Point23,xy, , ,in, deg, , ,N, , ,W, grid, , , ,N
Point24,xy, , ,in, deg, , ,N, , ,W, grid, , , ,N
Point25,xy, , ,in, deg, , ,N, , ,W, grid, , , ,N
Point26,xy, , ,in, deg, , ,N, , ,W, grid, , , ,N
Point27,xy, , ,in, deg, , ,N, , ,W, grid, , , ,N
Point28,xy, , ,in, deg, , ,N, , ,W, grid, , , ,N
Point29,xy, , ,in, deg, , ,N, , ,W, grid, , , ,N
Point30,xy, , ,in, deg, , ,N, , ,W, grid, , , ,N
Projection Setup,,,,,,,,,,
Map Feature = MF ; Map Comment = MC These follow if they exist
Track File = TF These follow if they exist
Moving Map Parameters = MM? These follow if they exist
MM0,Yes
MMPNUM,4
MMPXY,1,0,0
MMPXY,2,3653,0
MMPXY,3,3653,2777
MMPXY,4,0,2777
MMPLL,1, 38.476353, 55.983403
MMPLL,2, 38.789892, 55.983403
MMPLL,3, 38.789892, 55.849831
MMPLL,4, 38.476353, 55.849831
MM1B,5.354398
MOP,Map Open Position,0,0
IWH,Map Image Width/Height,3653,2777
