OziExplorer Map Data File Version 2.2
gen-250.jpg
gen-250.jpg
1 ,Map Code,
WGS 84,, 0.0000, 0.0000,WGS 84
Reserved 1
Reserved 2
Magnetic Variation,,,E
Map Projection,Mercator,PolyCal,No,AutoCalOnly,No,BSBUseWPX,No
Point01,xy, 0, 0,in, deg, 69, 42.8757,N, 31, 9.9589,E, grid, , , ,N
Point02,xy, 4056, 0,in, deg, 69, 42.8757,N, 31, 51.7447,E, grid, , , ,N
Point03,xy, 8113, 0,in, deg, 69, 42.8757,N, 32, 33.5202,E, grid, , , ,N
Point04,xy, 0, 2964,in, deg, 69, 32.2439,N, 31, 9.9589,E, grid, , , ,N
Point05,xy, 4056, 2964,in, deg, 69, 32.2439,N, 31, 51.7447,E, grid, , , ,N
Point06,xy, 8113, 2964,in, deg, 69, 32.2439,N, 32, 33.5202,E, grid, , , ,N
Point07,xy, 0, 5929,in, deg, 69, 21.5268,N, 31, 9.9589,E, grid, , , ,N
Point08,xy, 4056, 5929,in, deg, 69, 21.5268,N, 31, 51.7447,E, grid, , , ,N
Point09,xy, 8113, 5929,in, deg, 69, 21.5268,N, 32, 33.5202,E, grid, , , ,N
Point10,xy, , ,in, deg, , ,N, , ,W, grid, , , ,N
Point11,xy, , ,in, deg, , ,N, , ,W, grid, , , ,N
Point12,xy, , ,in, deg, , ,N, , ,W, grid, , , ,N
Point13,xy, , ,in, deg, , ,N, , ,W, grid, , , ,N
Point14,xy, , ,in, deg, , ,N, , ,W, grid, , , ,N
Point15,xy, , ,in, deg, , ,N, , ,W, grid, , , ,N
Point16,xy, , ,in, deg, , ,N, , ,W, grid, , , ,N
Point17,xy, , ,in, deg, , ,N, , ,W, grid, , , ,N
Point18,xy, , ,in, deg, , ,N, , ,W, grid, , , ,N
Point19,xy, , ,in, deg, , ,N, , ,W, grid, , , ,N
Point20,xy, , ,in, deg, , ,N, , ,W, grid, , , ,N
Point21,xy, , ,in, deg, , ,N, , ,W, grid, , , ,N
Point22,xy, , ,in, deg, , ,N, , ,W, grid, , , ,N
Point23,xy, , ,in, deg, , ,N, , ,W, grid, , , ,N
Point24,xy, , ,in, deg, , ,N, , ,W, grid, , , ,N
Point25,xy, , ,in, deg, , ,N, , ,W, grid, , , ,N
Point26,xy, , ,in, deg, , ,N, , ,W, grid, , , ,N
Point27,xy, , ,in, deg, , ,N, , ,W, grid, , , ,N
Point28,xy, , ,in, deg, , ,N, , ,W, grid, , , ,N
Point29,xy, , ,in, deg, , ,N, , ,W, grid, , , ,N
Point30,xy, , ,in, deg, , ,N, , ,W, grid, , , ,N
Projection Setup,,,,,,,,,,
Map Feature = MF ; Map Comment = MC These follow if they exist
Track File = TF These follow if they exist
Moving Map Parameters = MM? These follow if they exist
MM0,Yes
MMPNUM,4
MMPXY,1,0,0
MMPXY,2,8113,0
MMPXY,3,8113,5929
MMPXY,4,0,5929
MMPLL,1, 31.165981, 69.714596
MMPLL,2, 32.558670, 69.714596
MMPLL,3, 32.558670, 69.358781
MMPLL,4, 31.165981, 69.358781
MM1B,6.680518
MOP,Map Open Position,0,0
IWH,Map Image Width/Height,8113,5929
