OziExplorer Map Data File Version 2.2
gen-15.jpg
gen-15.jpg
1 ,Map Code,
WGS 84,, 0.0000, 0.0000,WGS 84
Reserved 1
Reserved 2
Magnetic Variation,,,E
Map Projection,Mercator,PolyCal,No,AutoCalOnly,No,BSBUseWPX,No
Point01,xy, 0, 0,in, deg, 43, 27.6424,N, 41, 58.7101,E, grid, , , ,N
Point02,xy, 3380, 0,in, deg, 43, 27.6424,N, 42, 16.1217,E, grid, , , ,N
Point03,xy, 6761, 0,in, deg, 43, 27.6424,N, 42, 33.5282,E, grid, , , ,N
Point04,xy, 0, 2220,in, deg, 43, 19.3308,N, 41, 58.7101,E, grid, , , ,N
Point05,xy, 3380, 2220,in, deg, 43, 19.3308,N, 42, 16.1217,E, grid, , , ,N
Point06,xy, 6761, 2220,in, deg, 43, 19.3308,N, 42, 33.5282,E, grid, , , ,N
Point07,xy, 0, 4441,in, deg, 43, 11.0040,N, 41, 58.7101,E, grid, , , ,N
Point08,xy, 3380, 4441,in, deg, 43, 11.0040,N, 42, 16.1217,E, grid, , , ,N
Point09,xy, 6761, 4441,in, deg, 43, 11.0040,N, 42, 33.5282,E, grid, , , ,N
Point10,xy, , ,in, deg, , ,N, , ,W, grid, , , ,N
Point11,xy, , ,in, deg, , ,N, , ,W, grid, , , ,N
Point12,xy, , ,in, deg, , ,N, , ,W, grid, , , ,N
Point13,xy, , ,in, deg, , ,N, , ,W, grid, , , ,N
Point14,xy, , ,in, deg, , ,N, , ,W, grid, , , ,N
Point15,xy, , ,in, deg, , ,N, , ,W, grid, , , ,N
Point16,xy, , ,in, deg, , ,N, , ,W, grid, , , ,N
Point17,xy, , ,in, deg, , ,N, , ,W, grid, , , ,N
Point18,xy, , ,in, deg, , ,N, , ,W, grid, , , ,N
Point19,xy, , ,in, deg, , ,N, , ,W, grid, , , ,N
Point20,xy, , ,in, deg, , ,N, , ,W, grid, , , ,N
Point21,xy, , ,in, deg, , ,N, , ,W, grid, , , ,N
Point22,xy, , ,in, deg, , ,N, , ,W, grid, , , ,N
Point23,xy, , ,in, deg, , ,N, , ,W, grid, , , ,N
Point24,xy, , ,in, deg, , ,N, , ,W, grid, , , ,N
Point25,xy, , ,in, deg, , ,N, , ,W, grid, , , ,N
Point26,xy, , ,in, deg, , ,N, , ,W, grid, , , ,N
Point27,xy, , ,in, deg, , ,N, , ,W, grid, , , ,N
Point28,xy, , ,in, deg, , ,N, , ,W, grid, , , ,N
Point29,xy, , ,in, deg, , ,N, , ,W, grid, , , ,N
Point30,xy, , ,in, deg, , ,N, , ,W, grid, , , ,N
Projection Setup,,,,,,,,,,
Map Feature = MF ; Map Comment = MC These follow if they exist
Track File = TF These follow if they exist
Moving Map Parameters = MM? These follow if they exist
MM0,Yes
MMPNUM,4
MMPXY,1,0,0
MMPXY,2,6761,0
MMPXY,3,6761,4441
MMPXY,4,0,4441
MMPLL,1, 41.978502, 43.460707
MMPLL,2, 42.558804, 43.460707
MMPLL,3, 42.558804, 43.183400
MMPLL,4, 41.978502, 43.183400
MM1B,6.951061
MOP,Map Open Position,0,0
IWH,Map Image Width/Height,6761,4441
